BEGIN:VCALENDAR
VERSION:2.0
PRODID:Events Booking
BEGIN:VEVENT
UID:69ea4728d7cf9
SUMMARY:Homeserve RIR
DESCRIPTION:
DTSTART:20260402T100000Z
DTEND:20260402T130000Z
DTSTAMP:20260327T095246Z
ORGANIZER;CN=Cisco Security Workshops:MAILTO:no-reply@ciscosecurityworkshop
 .com
END:VEVENT
END:VCALENDAR