BEGIN:VCALENDAR
VERSION:2.0
PRODID:Events Booking
BEGIN:VEVENT
UID:69ea128d773f9
SUMMARY:How to detect Incidents
DESCRIPTION:Cisco Purple Team Workshop (internal Test)
LOCATION:강남대지하차도\, Yongin\, 16978 Gyeonggi-do\, South Korea
DTSTART:20260113T090000Z
DTEND:20260113T170000Z
DTSTAMP:20260108T145234Z
ORGANIZER;CN=Cisco Security Workshops:MAILTO:no-reply@ciscosecurityworkshop
 .com
GEO:37.270274;127.126002
X-APPLE-STRUCTURED-LOCATION;VALUE=URI;X-ADDRESS=강남대지하차도\, Yon
 gin\, 16978 Gyeonggi-do\, South Korea;X-APPLE-RADIUS=72;X-TITLE=Cisco:37.2
 70274;127.126002
END:VEVENT
END:VCALENDAR