BEGIN:VCALENDAR
VERSION:2.0
PRODID:Events Booking
BEGIN:VEVENT
UID:69ea80c39e43f
SUMMARY:Detroit - Hybrid Mesh Firewall
DESCRIPTION:Simplifying with Cisco Hybrid Mesh Firewall
  
 Cisco goes b
 eyond ‘firewalling in a box’ to fuse security into the network\, cloud
 \, container\, and workload for a highly distributed fabric. It puts secur
 ity where you need it\, incorporates your existing firewalls\, scales with
  your business\, and handles policy management that goes beyond human-scal
 e.
  
 See and Experience Why Cisco is recognized as an industry leader
  and visionary with Hybrid Mesh Firewall.
 
 Intelligent Centralized Man
 agement: Automatically configures\, deploys\, and autoscales firewalls acr
 oss multi-cloud environments without scripting. Plus\, the AI assistant re
 duces management overhead and frees up resources and expertise.
 Advanced
  Threat Protection: Sees through encryption to detect threats in encrypted
  traffic without sacrificing performance using industry’s first\, ML-bas
 ed Encrypted Visibility Engine. Where decryption is essential\, highperfor
 mance hardware offload architecture delivers price-performance leadership 
 and deep visibility. Protect against known and unknown threats with Cisco 
 Talos Threat Intelligence\, industry leading Snort 3 IPS\, and Snort ML.

  Segmentation: Prevent unauthorized lateral movement and safeguard applica
 tions across data center and clouds with topology-aware security that unde
 rstands app dependencies and applies zero trust segmentation policies acro
 ss the Cisco security fabric.
 AI Model Protection: Fuses AI guardrails i
 nto the fabric of the network to safeguard in real-time against the dynami
 c threats introduced through the development and deployment of AI applicat
 ions.
 Exploit Protection: Mitigates vulnerabilities by applying a surgic
 al mitigation shield that is optimally placed in the path of the applicati
 on to block the exploit—all while ensuring application uptime.
 
LOCATION:Online
DTSTART:20251202T050000Z
DTEND:20251213T045500Z
DTSTAMP:20251113T211953Z
ORGANIZER;CN=Cisco Security Workshops:MAILTO:no-reply@ciscosecurityworkshop
 .com
END:VEVENT
END:VCALENDAR