BEGIN:VCALENDAR
VERSION:2.0
PRODID:Events Booking
BEGIN:VEVENT
UID:69ea80c39426a
SUMMARY:Hybrid Mesh Firewall (2)
DESCRIPTION:
LOCATION:Online
DTSTART:20251202T050000Z
DTEND:20251208T045500Z
DTSTAMP:20251113T234056Z
ORGANIZER;CN=Cisco Security Workshops:MAILTO:no-reply@ciscosecurityworkshop
 .com
END:VEVENT
END:VCALENDAR