BEGIN:VCALENDAR
VERSION:2.0
PRODID:Events Booking
BEGIN:VEVENT
UID:69ed84e8a4d41
SUMMARY:Hybrid Mesh Firewall Design Clinic
DESCRIPTION:
  
 Overview:The Hybrid Mesh Firewall Design Workshop is a 
 comprehensive 3-hour interactive session designed to help organizations un
 derstand and leverage Cisco’s Hybrid Mesh Firewall capabilities. This wo
 rkshop combines a targeted presentation\, hands-on collaboration\, and str
 ategic planning to help customers modernize their firewall architecture\, 
 enhance security visibility\, and optimize operational efficiency.
 
 Ag
 enda:
 1. Introduction &amp\; Presentation (45 - minutes)
 
 Overview o
 f Cisco’s Hybrid Mesh Firewall solution
 Key Advantages: unified policy
  management\, improved visibility\, operational simplification\, and cost 
 savings
 Real-world examples and customer success stories
 Discussion on
  integrating a hybrid mesh approach with existing infrastructures
 
 2. 
 Interactive Discussion &amp\; White-boarding (60 Minutes)
 
 Open dialog
 ue between customers and Cisco Solutions Engineers (SEs) on current firewa
 ll management practices
 Identification and mapping of all firewall types
 \, vendors\, and locations within the customer’s environment
 White-boa
 rding session to illustrate current state\, highlight challenges\, and rev
 eal potential gaps in visibility or management
 Discussion of integration
  opportunities and quick wins for hybrid mesh deployment
 
 3. Demonstra
 tion and Discussion (15 minutes)
 
 Summary of key findings from the dis
 cussion and whiteboarding
 Collaborative development of a high-level road
 map for adopting a hybrid mesh firewall solution
 Recommendations on next
  steps to streamline operations\, reduce costs\, and improve security post
 ure
 Q&amp\;A and assignment of follow-up actions or resources
 
 4. Ha
 nds on Lab (60 minutes)
 
 Key Takeaways:
 
 Clear understanding of Ci
 sco’s Hybrid Mesh Firewall solution and its advantages
 A detailed map 
 of the customer’s current firewall landscape
 Identification of immedia
 te opportunities and long-term strategies for transformation
 A customize
 d roadmap to help achieve a unified\, scalable\, and efficient security ar
 chitecture
 
 
 Who Should Attend:
 
 IT and Network Security Leaders
 
 Firewall and Infrastructure Administrators
 Information Security Teams
 
 Cisco SEs and Technical Architects
 
 
 Format:
 
 3-hour session 
 (in-person or virtual)
 Combination of presentation\, discussion\, and co
 llaborative white-boarding
 Actionable deliverables and next steps tailor
 ed to customer environment
 
 
  
 Notes:
 
 Ensure stakeholders fr
 om all relevant teams participate for a holistic view.
 Bring network top
 ology diagrams and inventory lists for deeper engagement.
 The session is
  interactive and tailored to specific customer needs.
 
LOCATION:150 13 Ave SW #200\, Calgary\, AB T2R 0V4\, Canada
DTSTART:20260226T180000Z
DTEND:20260226T200000Z
DTSTAMP:20260219T182630Z
ORGANIZER;CN=Cisco Security Workshops:MAILTO:no-reply@ciscosecurityworkshop
 .com
GEO:51.040658;-114.065407
X-APPLE-STRUCTURED-LOCATION;VALUE=URI;X-ADDRESS=150 13 Ave SW #200\, Calgar
 y\, AB T2R 0V4\, Canada;X-APPLE-RADIUS=72;X-TITLE=Calgary:51.040658;-114.0
 65407
END:VEVENT
END:VCALENDAR