BEGIN:VCALENDAR
VERSION:2.0
PRODID:Events Booking
BEGIN:VEVENT
UID:69ed8530d44b0
SUMMARY:Hybrid Mesh Firewall Design Clinic Hands on Lab
DESCRIPTION:
  
 Overview:The Hybrid Mesh Firewall Design Workshop is a 
 comprehensive 3-hour interactive session designed to help organizations un
 derstand and leverage Cisco’s Hybrid Mesh Firewall capabilities. This wo
 rkshop combines a targeted presentation\, hands-on collaboration\, and str
 ategic planning to help customers modernize their firewall architecture\, 
 enhance security visibility\, and optimize operational efficiency.
 
 Ag
 enda:
 1. Introduction &amp\; Presentation (45- minutes)
 
 Overview of
  Cisco’s Hybrid Mesh Firewall solution
 Key Advantages: unified policy 
 management\, improved visibility\, operational simplification\, and cost s
 avings
 Real-world examples and customer success stories
 Discussion on 
 integrating a hybrid mesh approach with existing infrastructures
 
 2. I
 nteractive Discussion &amp\; White-boarding (60 Minutes)
 
 Open dialogu
 e between customers and Cisco Solutions Engineers (SEs) on current firewal
 l management practices
 Identification and mapping of all firewall types\
 , vendors\, and locations within the customer’s environment
 White-boar
 ding session to illustrate current state\, highlight challenges\, and reve
 al potential gaps in visibility or management
 Discussion of integration 
 opportunities and quick wins for hybrid mesh deployment
 
 3. Demonstrat
 ion and Discussion (15 minutes)
 
 Summary of key findings from the disc
 ussion and whiteboarding
 Collaborative development of a high-level roadm
 ap for adopting a hybrid mesh firewall solution
 Q&amp\;A and assignment 
 of follow-up actions or resources
 
 4. Hands on Lab (60 minutes)
 
 K
 ey Takeaways:
 
 Clear understanding of Cisco’s Hybrid Mesh Firewall s
 olution and its advantages
 A detailed map of the customer’s current fi
 rewall landscape
 Identification of immediate opportunities and long-term
  strategies for transformation
 A customized roadmap to help achieve a un
 ified\, scalable\, and efficient security architecture
 
 
 Who Should 
 Attend:
 
 IT and Network Security Leaders
 Firewall and Infrastructure
  Administrators
 Information Security Teams
 Cisco SEs and Technical Arc
 hitects
 
 
 Format:
 
 3-hour session (in-person or virtual)
 Combi
 nation of presentation\, discussion\, and collaborative white-boarding
 A
 ctionable deliverables and next steps tailored to customer environment
 
 
 
  
 Notes:
 
 Ensure stakeholders from all relevant teams particip
 ate for a holistic view.
 Bring network topology diagrams and inventory l
 ists for deeper engagement.
 The session is interactive and tailored to s
 pecific customer needs.
 
LOCATION:150 13 Ave SW #200\, Calgary\, AB T2R 0V4\, Canada
DTSTART:20260226T160000Z
DTEND:20260226T210000Z
DTSTAMP:20260219T181638Z
ORGANIZER;CN=Cisco Security Workshops:MAILTO:no-reply@ciscosecurityworkshop
 .com
GEO:51.040658;-114.065407
X-APPLE-STRUCTURED-LOCATION;VALUE=URI;X-ADDRESS=150 13 Ave SW #200\, Calgar
 y\, AB T2R 0V4\, Canada;X-APPLE-RADIUS=72;X-TITLE=Calgary:51.040658;-114.0
 65407
END:VEVENT
END:VCALENDAR