BEGIN:VCALENDAR
VERSION:2.0
PRODID:Events Booking
BEGIN:VEVENT
UID:69ea4ea06dd99
SUMMARY:Hybrid Mesh Firewall Drive - Cox
DESCRIPTION:
LOCATION:Atlanta\, 30328 Georgia\, United States
DTSTART:20260225T090000Z
DTEND:20260225T210000Z
DTSTAMP:20260217T162647Z
ORGANIZER;CN=Cisco Security Workshops:MAILTO:no-reply@ciscosecurityworkshop
 .com
GEO:33.856553;-84.358021
X-APPLE-STRUCTURED-LOCATION;VALUE=URI;X-ADDRESS=Atlanta\, 30328 Georgia\, U
 nited States;X-APPLE-RADIUS=72;X-TITLE=Cox Atlanta:33.856553;-84.358021
END:VEVENT
END:VCALENDAR