BEGIN:VCALENDAR
VERSION:2.0
PRODID:Events Booking
BEGIN:VEVENT
UID:69e8945728195
SUMMARY:Hybrid Mesh Firewall - Milan
DESCRIPTION:
LOCATION:Piazza Gae Aulenti 6\, Milan\, 20154 Lombardy\, Italy
DTSTART:20251007T060000Z
DTEND:20251007T180000Z
DTSTAMP:20250929T105237Z
ORGANIZER;CN=Cisco Security Workshops:MAILTO:no-reply@ciscosecurityworkshop
 .com
GEO:45.48328;9.190196
X-APPLE-STRUCTURED-LOCATION;VALUE=URI;X-ADDRESS=Piazza Gae Aulenti 6\, Mila
 n\, 20154 Lombardy\, Italy;X-APPLE-RADIUS=72;X-TITLE=Cisco Office Milan:45
 .48328;9.190196
END:VEVENT
END:VCALENDAR