BEGIN:VCALENDAR
VERSION:2.0
PRODID:Events Booking
BEGIN:VEVENT
UID:69ea4adf332b6
SUMMARY:Hybrid Mesh Firewall Montréal
DESCRIPTION:
 *** Places limitées - Enregistrez-vous dès maintenant. ***
 
 *** Apportez votre portable pour l'atelier. ***
  
 Description de l
 ’événement
 L’atelier Hybrid Mesh Firewall – Project Meteor met l
 es participants en situation réelle pour accompagner PseudoCo\, une multi
 nationale présente à l’échelle mondiale\, dans la modernisation compl
 ète de son infrastructure firewall.
 À travers le déploiement de l’a
 rchitecture Cisco Hybrid Mesh Firewall\, les participants configurent et i
 mplémentent une plateforme de sécurité distribuée et unifiée via Cisc
 o Security Cloud Control\, afin d’assurer une protection cohérente des 
 utilisateurs\, applications et workloads dans des environnements hybrides 
 et multicloud.
 L’objectif est de réduire la surface d’attaque\, pr
 évenir les compromissions et limiter les mouvements latéraux grâce à u
 ne approche moderne intégrant segmentation réseau\, visibilité cloud et
  micro-segmentation Zero Trust.
 Lieu
 Édifice Sun Life (Salle Metcalfe
 )
 
 
 1155 Metcalfe
 
 
 Montréal\, Québec
 
 H3B 2V6
 
 Repa
 s
 
 
 Inclus pour les participants
 
 
  
 
 Agenda de la journ
 ée
 9h30-10h00: Arrivée des participants
  
 10h00: Début de l'atel
 ier
     Introduction à Hybrid Mesh Firewall de Cisco.
     Expli
 cation du déroulement de l'atelier.
  
 12h00: Diner
     L'heure 
 peut varier selon le déroulement et la distribution des repas.
  
 15h
 00: Fin de l'atelier
     Merci de votre intérêt et participation.

   
 Agenda de l’atelier
 Introduction
 
 
 Présentation du contex
 te PseudoCo
 
 
 Objectifs du projet Meteor
 
 
 Présentation de l
 ’architecture Hybrid Mesh Firewall
 
 
 
 Phase 1 – Segmentation r
 éseau &amp\; DC Edge
 
 
 Déploiement initial (Day 0)
 
 
 Segment
 ation basée sur les zones (L4/L7)
 
 
 Intégration des firewalls phys
 iques
 
 
 Simplification des connexions branch-to-hub via SD-WAN
 
 
 
 Configuration du périmètre Data Center Edge
 
 
 
 Phase 2 – Cl
 oud Edge
 
 
 Activation de la visibilité multicloud (AWS\, Azure\, GC
 P)
 
 
 Collecte et analyse des DNS Flow Logs
 
 
 Gestion des objet
 s partagés (Shared Objects)
 
 
 Intégration CSDAC (Multicloud Defens
 e Connector)
 
 
 Unification des politiques de sécurité cloud
 
 
 
 
 Phase 3 – Macro &amp\; Micro-Segmentation
 Objectif : Approche Zer
 o Trust et principe du moindre privilège
 3.1 Micro-segmentation Zero Tr
 ust (Agent-Based)
 
 
 Visibilité approfondie des flux
 
 
 Créati
 on des scopes
 
 
 Définition et analyse des politiques
 
 
 Mise e
 n application des règles
 
 
 3.2 Micro-segmentation sans agent (Zone 
 Firewalling)
 
 
 Visibilité réseau
 
 
 Construction des zones
 
 
 
 Définition et enforcement des politiques
 
 
 
 Conclusion
 

  
 Synthèse des apprentissages
 
 
 Évaluation finale
 
 
 Certif
 ication de complétion
 
 
LOCATION:McGill College Avenue\, Montreal\, H3A 3M8 Quebec\, Canada
DTSTART:20260414T110000Z
DTEND:20260414T193000Z
DTSTAMP:20260225T172227Z
ORGANIZER;CN=Cisco Security Workshops:MAILTO:no-reply@ciscosecurityworkshop
 .com
GEO:45.502233;-73.572656
X-APPLE-STRUCTURED-LOCATION;VALUE=URI;X-ADDRESS=McGill College Avenue\, Mon
 treal\, H3A 3M8 Quebec\, Canada;X-APPLE-RADIUS=72;X-TITLE=Montreal Canada:
 45.502233;-73.572656
END:VEVENT
END:VCALENDAR