BEGIN:VCALENDAR
VERSION:2.0
PRODID:Events Booking
BEGIN:VEVENT
UID:69ea532f433e0
SUMMARY:Hybrid Mesh Firewall - NTT
DESCRIPTION:
LOCATION:Virtual
DTSTART:20260326T230000Z
DTEND:20260327T020000Z
DTSTAMP:20260326T224557Z
ORGANIZER;CN=Cisco Security Workshops:MAILTO:no-reply@ciscosecurityworkshop
 .com
GEO:25;-80.226529
X-APPLE-STRUCTURED-LOCATION;VALUE=URI;X-ADDRESS=Virtual;X-APPLE-RADIUS=72;X
 -TITLE=Virtual:25;-80.226529
END:VEVENT
END:VCALENDAR