BEGIN:VCALENDAR
VERSION:2.0
PRODID:Events Booking
BEGIN:VEVENT
UID:69e822c83ea0a
SUMMARY:Hybrid Mesh Firewall - Reading
DESCRIPTION:Cisco's Hybrid Mesh Firewall (In Person) Workshop - Reading\
 , UK - 26 June\, 2025.
  
 Join us in-person for a comprehensive instru
 ctor-led event designed to deliver an immersive\, hands-on experience. Div
 e deep into the game-changing features of this cutting-edge firewall techn
 ology through practical labs.
  
  
LOCATION:Reading\, RG2 6GF England\, United Kingdom
DTSTART:20250626T080000Z
DTEND:20250626T180000Z
DTSTAMP:20250609T105218Z
ORGANIZER;CN=Cisco Security Workshops:MAILTO:no-reply@ciscosecurityworkshop
 .com
GEO:51.425196;-0.99189
X-APPLE-STRUCTURED-LOCATION;VALUE=URI;X-ADDRESS=Reading\, RG2 6GF England\,
  United Kingdom;X-APPLE-RADIUS=72;X-TITLE=Cisco Office - Reading Green Par
 k:51.425196;-0.99189
END:VEVENT
END:VCALENDAR