BEGIN:VCALENDAR
VERSION:2.0
PRODID:Events Booking
BEGIN:VEVENT
UID:69ea105030a39
SUMMARY:Hybrid Mesh Firewall @Tech Elevate - Monday
DESCRIPTION:The Hybrid Mesh Firewall lab is an interactive overview of the 
 solution where you take the role of an engineer deploying Hybrid Mesh Fire
 wall for a fictitious company PseudoCo.
 Access is provided through the C
 isco Security Workshop (Moodle) guide
LOCATION:Virtual
DTSTART:20250825T080000Z
DTEND:20250826T065500Z
DTSTAMP:20250812T183634Z
ORGANIZER;CN=Cisco Security Workshops:MAILTO:no-reply@ciscosecurityworkshop
 .com
GEO:25;-80.226529
X-APPLE-STRUCTURED-LOCATION;VALUE=URI;X-ADDRESS=Virtual;X-APPLE-RADIUS=72;X
 -TITLE=Virtual:25;-80.226529
END:VEVENT
END:VCALENDAR