BEGIN:VCALENDAR
VERSION:2.0
PRODID:Events Booking
BEGIN:VEVENT
UID:69e822aa44a1c
SUMMARY:Hybrid Mesh Firewall Test
DESCRIPTION:
LOCATION:Haarlerbergpark Haarlerbergweg 17 -19 Amsterdam\, North Holland 11
 01 CH Netherlands
DTSTART:20250707T060000Z
DTEND:20250707T210000Z
DTSTAMP:20250702T081126Z
ORGANIZER;CN=Cisco Security Workshops:MAILTO:no-reply@ciscosecurityworkshop
 .com
END:VEVENT
END:VCALENDAR