BEGIN:VCALENDAR
VERSION:2.0
PRODID:Events Booking
BEGIN:VEVENT
UID:69ea520ba26c8
SUMMARY:Hybrid Mesh Firewall Workshop
DESCRIPTION:
LOCATION:Levels 22-24 177 Pacific Highway North Sydney\, New South Wales 20
 60 Australia
DTSTART:20260311T230000Z
DTEND:20260312T030000Z
DTSTAMP:20260311T223825Z
ORGANIZER;CN=Cisco Security Workshops:MAILTO:no-reply@ciscosecurityworkshop
 .com
END:VEVENT
END:VCALENDAR