BEGIN:VCALENDAR
VERSION:2.0
PRODID:Events Booking
BEGIN:VEVENT
UID:69ea4b1cf2782
SUMMARY:Hybrid Mesh Firewall Workshop - Comstor - Paddington London 
DESCRIPTION:
LOCATION:Park House\, 16-18 Finsbury Circus\, London EC2M 7EB
DTSTART:20260409T080000Z
DTEND:20260409T200000Z
DTSTAMP:20260224T162324Z
ORGANIZER;CN=Cisco Security Workshops:MAILTO:no-reply@ciscosecurityworkshop
 .com
GEO:51.51812;-0.085529
X-APPLE-STRUCTURED-LOCATION;VALUE=URI;X-ADDRESS=Park House\, 16-18 Finsbury
  Circus\, London EC2M 7EB;X-APPLE-RADIUS=72;X-TITLE=Cisco Systems London:5
 1.51812;-0.085529
END:VEVENT
END:VCALENDAR