BEGIN:VCALENDAR
VERSION:2.0
PRODID:Events Booking
BEGIN:VEVENT
UID:69ea4b0dee95c
SUMMARY:Cisco Hybrid Mesh Firewall Ignite Workshop Dubai 25th Nov - Ingram 
 Micro - PM
DESCRIPTION:Hybrid Mesh Firewall : PseudoCo Project Meteor
LOCATION:A004-024\, Al Safouh 2 Knowledge Village Dubai\, Dubai 500321 Unit
 ed Arab Emirates
DTSTART:20251125T080000Z
DTEND:20251125T235500Z
DTSTAMP:20251111T092910Z
ORGANIZER;CN=Cisco Security Workshops:MAILTO:no-reply@ciscosecurityworkshop
 .com
END:VEVENT
END:VCALENDAR