BEGIN:VCALENDAR
VERSION:2.0
PRODID:Events Booking
BEGIN:VEVENT
UID:69ea14f174718
SUMMARY:Hybrid Mesh Firewall Workshop for Domain Specialists (option 2)
DESCRIPTION: 
 Starting on the 9th of October and finishing on the 16th in
  APJC we are excited to invite you to a 2-hour self-contained interactive 
 workshop on Cisco’s Hybrid Mesh Firewall and have a chance to win swag! 
 5 lucky engineers who complete the workshop will be chosen at random to wi
 n great prizes.
 During this session\, you will step into the shoes of a 
 fictional engineer at PseudoCo and work through real-world scenarios that 
 highlight the power and flexibility of Cisco’s security solutions.
 The
  workshop will make extensive use of Cisco Security Cloud Control and cove
 r topics such as deployment\, SD-WAN configuration\, shared objects manage
 ment\, and application segmentation. This is a great opportunity to build 
 hands-on experience and deepen your understanding of modern network securi
 ty practices.
 This is an opportunity to get hands on with Hybrid Mesh Fi
 rewall through a self-paced workshop. 
 There is no presentation or Webex
  associated with this workshop
 
 Key Takeaways:
 
 Clear understandin
 g of Cisco’s Hybrid Mesh Firewall solution and its advantages
 Gain han
 ds-on experience with Cisco Security Cloud Control for centralized and ext
 ensive security management
 Understand how to configure SD-WAN for optimi
 zed and secure network connectivity
 Explore enhanced cloud visibility to
  monitor and protect distributed applications and data
 Deepen your knowl
 edge of Shared Objects and their role in efficient policy management
 Mas
 ter application segmentation techniques using both endpoint agents and the
  firewall for comprehensive security.
 
LOCATION:Virtual
DTSTART:20251016T000000Z
DTEND:20251016T080000Z
DTSTAMP:20251006T203535Z
ORGANIZER;CN=Cisco Security Workshops:MAILTO:no-reply@ciscosecurityworkshop
 .com
GEO:25;-80.226529
X-APPLE-STRUCTURED-LOCATION;VALUE=URI;X-ADDRESS=Virtual;X-APPLE-RADIUS=72;X
 -TITLE=Virtual:25;-80.226529
END:VEVENT
END:VCALENDAR