BEGIN:VCALENDAR
VERSION:2.0
PRODID:Events Booking
BEGIN:VEVENT
UID:69ea13f06b985
SUMMARY:Hybrid Mesh Firewall Workshop for Domain Specialists (option 1)
DESCRIPTION:
  We are excited to invite you to a 1-hour interactive works
 hop on Cisco’s Hybrid Mesh Firewall. During this session\, you will step
  into the shoes of a fictional engineer at PseudoCo and work through real-
 world scenarios that highlight the power and flexibility of Cisco’s secu
 rity solutions.
 The workshop will make extensive use of Cisco Security C
 loud Control and cover topics such as deployment\, SD-WAN configuration\, 
 shared objects management\, and application segmentation. This is a great 
 opportunity to build hands-on experience and deepen your understanding of 
 modern network security practices.
 We look forward to seeing you there a
 nd working together to secure the future of networking!
 
 Key Takeaways
 :
 
 Clear understanding of Cisco’s Hybrid Mesh Firewall solution and 
 its advantages
 Gain hands-on experience with Cisco Security Cloud Contro
 l for centralized and extensive security management
 Understand how to co
 nfigure SD-WAN for optimized and secure network connectivity
 Explore enh
 anced cloud visibility to monitor and protect distributed applications and
  data
 Deepen your knowledge of Shared Objects and their role in efficien
 t policy management
 Master application segmentation techniques using bot
 h endpoint agents and the firewall for comprehensive security.
 
LOCATION:Virtual
DTSTART:20251007T050000Z
DTEND:20251008T035500Z
DTSTAMP:20250925T150648Z
ORGANIZER;CN=Cisco Security Workshops:MAILTO:no-reply@ciscosecurityworkshop
 .com
GEO:25;-80.226529
X-APPLE-STRUCTURED-LOCATION;VALUE=URI;X-ADDRESS=Virtual;X-APPLE-RADIUS=72;X
 -TITLE=Virtual:25;-80.226529
END:VEVENT
END:VCALENDAR