BEGIN:VCALENDAR
VERSION:2.0
PRODID:Events Booking
BEGIN:VEVENT
UID:69ea10bdd09ba
SUMMARY:Hybrid Mesh Firewall @Tech Elevate - Sunday
DESCRIPTION:The Hybrid Mesh Firewall lab is an interactive overview of the 
 solution where you take the role of an engineer deploying Hybrid Mesh Fire
 wall for a fictitious company PseudoCo.
LOCATION:Virtual
DTSTART:20250824T080000Z
DTEND:20250825T065500Z
DTSTAMP:20250812T183440Z
ORGANIZER;CN=Cisco Security Workshops:MAILTO:no-reply@ciscosecurityworkshop
 .com
GEO:25;-80.226529
X-APPLE-STRUCTURED-LOCATION;VALUE=URI;X-ADDRESS=Virtual;X-APPLE-RADIUS=72;X
 -TITLE=Virtual:25;-80.226529
END:VEVENT
END:VCALENDAR