BEGIN:VCALENDAR
VERSION:2.0
PRODID:Events Booking
BEGIN:VEVENT
UID:69ea0eda1888f
SUMMARY:IDI - RIR (2)
DESCRIPTION:
LOCATION:Uganda
DTSTART:20250905T230000Z
DTEND:20250905T200000Z
DTSTAMP:20250908T110908Z
ORGANIZER;CN=Cisco Security Workshops:MAILTO:no-reply@ciscosecurityworkshop
 .com
GEO:123;123
X-APPLE-STRUCTURED-LOCATION;VALUE=URI;X-ADDRESS=Uganda;X-APPLE-RADIUS=72;X-
 TITLE=Uganda:123;123
END:VEVENT
END:VCALENDAR