BEGIN:VCALENDAR
VERSION:2.0
PRODID:Events Booking
BEGIN:VEVENT
UID:69ea0e1f1896f
SUMMARY:IDI - RIR
DESCRIPTION:
LOCATION:Uganda
DTSTART:20250906T230000Z
DTEND:20250906T200000Z
DTSTAMP:20250908T105825Z
ORGANIZER;CN=Cisco Security Workshops:MAILTO:no-reply@ciscosecurityworkshop
 .com
GEO:123;123
X-APPLE-STRUCTURED-LOCATION;VALUE=URI;X-ADDRESS=Uganda;X-APPLE-RADIUS=72;X-
 TITLE=Uganda:123;123
END:VEVENT
END:VCALENDAR