BEGIN:VCALENDAR
VERSION:2.0
PRODID:Events Booking
BEGIN:VEVENT
UID:69ea48ee46c68
SUMMARY:IDI - Uganda-RIR
DESCRIPTION:
LOCATION:Uganda
DTSTART:20250908T110000Z
DTEND:20250908T205500Z
DTSTAMP:20250908T111203Z
ORGANIZER;CN=Cisco Security Workshops:MAILTO:no-reply@ciscosecurityworkshop
 .com
GEO:123;123
X-APPLE-STRUCTURED-LOCATION;VALUE=URI;X-ADDRESS=Uganda;X-APPLE-RADIUS=72;X-
 TITLE=Uganda:123;123
END:VEVENT
END:VCALENDAR