BEGIN:VCALENDAR
VERSION:2.0
PRODID:Events Booking
BEGIN:VEVENT
UID:69e82c9898054
SUMMARY:Ingram Micro - Cisco HMF
DESCRIPTION:
DTSTART:20251104T050000Z
DTEND:20251104T170000Z
DTSTAMP:20251022T142736Z
ORGANIZER;CN=Cisco Security Workshops:MAILTO:no-reply@ciscosecurityworkshop
 .com
END:VEVENT
END:VCALENDAR