BEGIN:VCALENDAR
VERSION:2.0
PRODID:Events Booking
BEGIN:VEVENT
UID:69e82d92115e4
SUMMARY:Ingram Micro - Cisco HMF
DESCRIPTION:
LOCATION:Poland
DTSTART:20251120T090000Z
DTEND:20251120T170000Z
DTSTAMP:20251112T223846Z
ORGANIZER;CN=Cisco Security Workshops:MAILTO:no-reply@ciscosecurityworkshop
 .com
GEO:52.215933;19.134422
X-APPLE-STRUCTURED-LOCATION;VALUE=URI;X-ADDRESS=Poland;X-APPLE-RADIUS=72;X-
 TITLE=Poland:52.215933;19.134422
END:VEVENT
END:VCALENDAR