BEGIN:VCALENDAR
VERSION:2.0
PRODID:Events Booking
BEGIN:VEVENT
UID:69e82da7d2203
SUMMARY:Ingram Micro - Cisco HMF
DESCRIPTION:
LOCATION:Saudi Arabia
DTSTART:20251218T080000Z
DTEND:20251218T180000Z
DTSTAMP:20251216T083013Z
ORGANIZER;CN=Cisco Security Workshops:MAILTO:no-reply@ciscosecurityworkshop
 .com
GEO:25.624262;42.352833
X-APPLE-STRUCTURED-LOCATION;VALUE=URI;X-ADDRESS=Saudi Arabia;X-APPLE-RADIUS
 =72;X-TITLE=KSA:25.624262;42.352833
END:VEVENT
END:VCALENDAR