BEGIN:VCALENDAR
VERSION:2.0
PRODID:Events Booking
BEGIN:VEVENT
UID:69ea058c6d39c
SUMMARY:Ingram Micro - Cisco HMF (Austria)
DESCRIPTION:
DTSTART:20260507T070000Z
DTEND:20260507T150000Z
DTSTAMP:20260417T195627Z
ORGANIZER;CN=Cisco Security Workshops:MAILTO:no-reply@ciscosecurityworkshop
 .com
END:VEVENT
END:VCALENDAR