BEGIN:VCALENDAR
VERSION:2.0
PRODID:Events Booking
BEGIN:VEVENT
UID:69ea4728eb51a
SUMMARY:Ingram Micro - Cisco HMF (EMEA)
DESCRIPTION:
DTSTART:20260415T070000Z
DTEND:20260415T210000Z
DTSTAMP:20260402T131855Z
ORGANIZER;CN=Cisco Security Workshops:MAILTO:no-reply@ciscosecurityworkshop
 .com
END:VEVENT
END:VCALENDAR