BEGIN:VCALENDAR
VERSION:2.0
PRODID:Events Booking
BEGIN:VEVENT
UID:69ea472789fa1
SUMMARY:Ingram Micro - Cisco HMF (Spain)
DESCRIPTION:
LOCATION:Avenida de la Vega 15\, Alcobendas\, 28108 Community of Madrid\, S
 pain
DTSTART:20260413T070000Z
DTEND:20260413T150000Z
DTSTAMP:20260402T132533Z
ORGANIZER;CN=Cisco Security Workshops:MAILTO:no-reply@ciscosecurityworkshop
 .com
GEO:40.533925;-3.631355
X-APPLE-STRUCTURED-LOCATION;VALUE=URI;X-ADDRESS=Avenida de la Vega 15\, Alc
 obendas\, 28108 Community of Madrid\, Spain;X-APPLE-RADIUS=72;X-TITLE=Cisc
 o Office\, Madrid:40.533925;-3.631355
END:VEVENT
END:VCALENDAR