BEGIN:VCALENDAR
VERSION:2.0
PRODID:Events Booking
BEGIN:VEVENT
UID:69e82c57a227b
SUMMARY:Ingram Micro - Cisco HMF
DESCRIPTION:
LOCATION:Austria
DTSTART:20251027T070000Z
DTEND:20251027T170000Z
DTSTAMP:20251022T142330Z
ORGANIZER;CN=Cisco Security Workshops:MAILTO:no-reply@ciscosecurityworkshop
 .com
GEO:47.59397;14.12456
X-APPLE-STRUCTURED-LOCATION;VALUE=URI;X-ADDRESS=Austria;X-APPLE-RADIUS=72;X
 -TITLE=Austria:47.59397;14.12456
END:VEVENT
END:VCALENDAR