BEGIN:VCALENDAR
VERSION:2.0
PRODID:Events Booking
BEGIN:VEVENT
UID:69ea4bf544abc
SUMMARY:Ingram Micro - Seed Unit Program
DESCRIPTION:Agenda:Seed Program OverviewFirewall updateFirewall workshop
LOCATION:KT\, HK
DTSTART:20260212T020000Z
DTEND:20260212T100000Z
DTSTAMP:20260122T071840Z
ORGANIZER;CN=Cisco Security Workshops:MAILTO:no-reply@ciscosecurityworkshop
 .com
END:VEVENT
END:VCALENDAR