BEGIN:VCALENDAR
VERSION:2.0
PRODID:Events Booking
BEGIN:VEVENT
UID:69e82045921bb
SUMMARY:Insight Security Tech Summit 2026 - HMF Lab
DESCRIPTION:Insight Tech Summit 2026
LOCATION:2701 E Insight Wy\, Chandler\, AZ 85286
DTSTART:20260202T150000Z
DTEND:20260206T020000Z
DTSTAMP:20260126T151403Z
ORGANIZER;CN=Cisco Security Workshops:MAILTO:no-reply@ciscosecurityworkshop
 .com
GEO:33.268478;-111.794527
X-APPLE-STRUCTURED-LOCATION;VALUE=URI;X-ADDRESS=2701 E Insight Wy\, Chandle
 r\, AZ 85286;X-APPLE-RADIUS=72;X-TITLE=Insight HQ:33.268478;-111.794527
END:VEVENT
END:VCALENDAR