BEGIN:VCALENDAR
VERSION:2.0
PRODID:Events Booking
BEGIN:VEVENT
UID:69ea85e7b6cb5
SUMMARY:IU Private RIR
DESCRIPTION:Private Cisco XDR Rapid Incident Response Workshop for IU
LOCATION:Virtual
DTSTART:20260217T160000Z
DTEND:20260217T200000Z
DTSTAMP:20260217T035156Z
ORGANIZER;CN=Cisco Security Workshops:MAILTO:no-reply@ciscosecurityworkshop
 .com
GEO:25;-80.226529
X-APPLE-STRUCTURED-LOCATION;VALUE=URI;X-ADDRESS=Virtual;X-APPLE-RADIUS=72;X
 -TITLE=Virtual:25;-80.226529
END:VEVENT
END:VCALENDAR