BEGIN:VCALENDAR
VERSION:2.0
PRODID:Events Booking
BEGIN:VEVENT
UID:69e9d16acd2b9
SUMMARY:Lexington Firewall Foundation Test Drive
DESCRIPTION:
DTSTART:20260423T150000Z
DTEND:20260423T180000Z
DTSTAMP:20260411T011456Z
ORGANIZER;CN=Cisco Security Workshops:MAILTO:no-reply@ciscosecurityworkshop
 .com
END:VEVENT
END:VCALENDAR