BEGIN:VCALENDAR
VERSION:2.0
PRODID:Events Booking
BEGIN:VEVENT
UID:69e9d162cea0f
SUMMARY:Lexington Firewall Advanced Test Drive
DESCRIPTION:
LOCATION:Virtual
DTSTART:20260423T190000Z
DTEND:20260423T220000Z
DTSTAMP:20260411T011308Z
ORGANIZER;CN=Cisco Security Workshops:MAILTO:no-reply@ciscosecurityworkshop
 .com
GEO:25;-80.226529
X-APPLE-STRUCTURED-LOCATION;VALUE=URI;X-ADDRESS=Virtual;X-APPLE-RADIUS=72;X
 -TITLE=Virtual:25;-80.226529
END:VEVENT
END:VCALENDAR