BEGIN:VCALENDAR
VERSION:2.0
PRODID:Events Booking
BEGIN:VEVENT
UID:69ea7f9a91325
SUMMARY:Logicalis Hybrid Mesh Firewall
DESCRIPTION:Logicalis Event HMF
LOCATION:Neu Isenburg
DTSTART:20260122T120500Z
DTEND:20260122T220000Z
DTSTAMP:20260105T150255Z
ORGANIZER;CN=Cisco Security Workshops:MAILTO:no-reply@ciscosecurityworkshop
 .com
END:VEVENT
END:VCALENDAR