BEGIN:VCALENDAR
VERSION:2.0
PRODID:Events Booking
BEGIN:VEVENT
UID:69ea496c2441f
SUMMARY:Logicalis XDR Ignite
DESCRIPTION:Logicalis Event XDR
LOCATION:Neu Isenburg
DTSTART:20260122T030000Z
DTEND:20260122T120000Z
DTSTAMP:20260113T145302Z
ORGANIZER;CN=Cisco Security Workshops:MAILTO:no-reply@ciscosecurityworkshop
 .com
END:VEVENT
END:VCALENDAR