BEGIN:VCALENDAR
VERSION:2.0
PRODID:Events Booking
BEGIN:VEVENT
UID:69ea0ffa1aa07
SUMMARY:Logicom - Cisco HMF
DESCRIPTION: 
 We are excited to invite you to a 2-hour self-contained int
 eractive workshop on Cisco’s Hybrid Mesh Firewall!
 During this session
 \, you will step into the shoes of a fictional engineer at PseudoCo and wo
 rk through real-world scenarios that highlight the power and flexibility o
 f Cisco’s security solutions.
 The workshop will make extensive use of 
 Cisco Security Cloud Control and cover topics such as deployment\, SD-WAN 
 configuration\, shared objects management\, and application segmentation. 
 This is a great opportunity to build hands-on experience and deepen your u
 nderstanding of modern network security practices.
 
 Key Takeaways:
 
 
 Clear understanding of Cisco’s Hybrid Mesh Firewall solution and its a
 dvantages
 Gain hands-on experience with Cisco Security Cloud Control for
  centralized and extensive security management
 Understand how to configu
 re SD-WAN for optimized and secure network connectivity
 Explore enhanced
  cloud visibility to monitor and protect distributed applications and data
 
 Deepen your knowledge of Shared Objects and their role in efficient pol
 icy management
 Master application segmentation techniques using both end
 point agents and the firewall for comprehensive security.
 
LOCATION:Virtual
DTSTART:20251216T060000Z
DTEND:20251216T120000Z
DTSTAMP:20251211T103806Z
ORGANIZER;CN=Cisco Security Workshops:MAILTO:no-reply@ciscosecurityworkshop
 .com
GEO:25;-80.226529
X-APPLE-STRUCTURED-LOCATION;VALUE=URI;X-ADDRESS=Virtual;X-APPLE-RADIUS=72;X
 -TITLE=Virtual:25;-80.226529
END:VEVENT
END:VCALENDAR