BEGIN:VCALENDAR
VERSION:2.0
PRODID:Events Booking
BEGIN:VEVENT
UID:69e8300e5432a
SUMMARY:Logicom - Cisco HMF Dry Run
DESCRIPTION:
DTSTART:20251120T080000Z
DTEND:20251120T180000Z
DTSTAMP:20251119T121154Z
ORGANIZER;CN=Cisco Security Workshops:MAILTO:no-reply@ciscosecurityworkshop
 .com
END:VEVENT
END:VCALENDAR