BEGIN:VCALENDAR
VERSION:2.0
PRODID:Events Booking
BEGIN:VEVENT
UID:69ea80c3e038c
SUMMARY:Logicom - Cisco HMF (KSA)
DESCRIPTION:
DTSTART:20260209T050000Z
DTEND:20260209T150000Z
DTSTAMP:20260128T091506Z
ORGANIZER;CN=Cisco Security Workshops:MAILTO:no-reply@ciscosecurityworkshop
 .com
END:VEVENT
END:VCALENDAR