BEGIN:VCALENDAR
VERSION:2.0
PRODID:Events Booking
BEGIN:VEVENT
UID:69ea4cb6f16ef
SUMMARY:Logicom - Cisco HMF (UAE)
DESCRIPTION:
DTSTART:20260210T040000Z
DTEND:20260210T140000Z
DTSTAMP:20260128T091709Z
ORGANIZER;CN=Cisco Security Workshops:MAILTO:no-reply@ciscosecurityworkshop
 .com
END:VEVENT
END:VCALENDAR