BEGIN:VCALENDAR
VERSION:2.0
PRODID:Events Booking
BEGIN:VEVENT
UID:69e82c724101a
SUMMARY:Logicom - Cisco HMF
DESCRIPTION:
DTSTART:20251216T050000Z
DTEND:20251216T150000Z
DTSTAMP:20251209T205511Z
ORGANIZER;CN=Cisco Security Workshops:MAILTO:no-reply@ciscosecurityworkshop
 .com
END:VEVENT
END:VCALENDAR