BEGIN:VCALENDAR
VERSION:2.0
PRODID:Events Booking
BEGIN:VEVENT
UID:69ea1146a422d
SUMMARY:Logicom HMF meteor event 9th Feb
DESCRIPTION:
LOCATION:Digital City\, Riyadh
DTSTART:20260209T060000Z
DTEND:20260209T205500Z
DTSTAMP:20260207T121524Z
ORGANIZER;CN=Cisco Security Workshops:MAILTO:no-reply@ciscosecurityworkshop
 .com
GEO:24.7404;46.6354
X-APPLE-STRUCTURED-LOCATION;VALUE=URI;X-ADDRESS=Digital City\, Riyadh;X-APP
 LE-RADIUS=72;X-TITLE=Cisco Office Riyadh:24.7404;46.6354
END:VEVENT
END:VCALENDAR