BEGIN:VCALENDAR
VERSION:2.0
PRODID:Events Booking
BEGIN:VEVENT
UID:69ea494ca10bc
SUMMARY:Logicom HMF Ignite
DESCRIPTION:
DTSTART:20251216T060000Z
DTEND:20251216T195500Z
DTSTAMP:20251216T075042Z
ORGANIZER;CN=Cisco Security Workshops:MAILTO:no-reply@ciscosecurityworkshop
 .com
END:VEVENT
END:VCALENDAR