BEGIN:VCALENDAR
VERSION:2.0
PRODID:Events Booking
BEGIN:VEVENT
UID:69ea494ba05d2
SUMMARY:Logicom HMF PM
DESCRIPTION:
DTSTART:20251216T060000Z
DTEND:20251216T195500Z
DTSTAMP:20251216T075426Z
ORGANIZER;CN=Cisco Security Workshops:MAILTO:no-reply@ciscosecurityworkshop
 .com
END:VEVENT
END:VCALENDAR