BEGIN:VCALENDAR
VERSION:2.0
PRODID:Events Booking
BEGIN:VEVENT
UID:69ea4bbb73556
SUMMARY:Logicom SSE
DESCRIPTION:
LOCATION:John Kennedy Avenue\, Agioi Omologites\, 1076 Cyprus\, Cyprus
DTSTART:20260424T060000Z
DTEND:20260424T140000Z
DTSTAMP:20260423T102217Z
ORGANIZER;CN=Cisco Security Workshops:MAILTO:no-reply@ciscosecurityworkshop
 .com
GEO:35.156546;33.370563
X-APPLE-STRUCTURED-LOCATION;VALUE=URI;X-ADDRESS=John Kennedy Avenue\, Agioi
  Omologites\, 1076 Cyprus\, Cyprus;X-APPLE-RADIUS=72;X-TITLE=Cyprus\, Nico
 sia:35.156546;33.370563
END:VEVENT
END:VCALENDAR