BEGIN:VCALENDAR
VERSION:2.0
PRODID:Events Booking
BEGIN:VEVENT
UID:69e822c84f530
SUMMARY:McLean Base Tour Day 2
DESCRIPTION:
LOCATION:Tysons One Place\, Tysons\, 22102 Virginia\, United States
DTSTART:20260306T070000Z
DTEND:20260308T040000Z
DTSTAMP:20260305T184422Z
ORGANIZER;CN=Cisco Security Workshops:MAILTO:no-reply@ciscosecurityworkshop
 .com
GEO:38.919543;-77.219623
X-APPLE-STRUCTURED-LOCATION;VALUE=URI;X-ADDRESS=Tysons One Place\, Tysons\,
  22102 Virginia\, United States;X-APPLE-RADIUS=72;X-TITLE=Cisco Office - M
 cLean:38.919543;-77.219623
END:VEVENT
END:VCALENDAR