BEGIN:VCALENDAR
VERSION:2.0
PRODID:Events Booking
BEGIN:VEVENT
UID:69e8208587baa
SUMMARY:McLean Base Tour
DESCRIPTION:
DTSTART:20260305T110000Z
DTEND:20260309T010000Z
DTSTAMP:20260303T142538Z
ORGANIZER;CN=Cisco Security Workshops:MAILTO:no-reply@ciscosecurityworkshop
 .com
END:VEVENT
END:VCALENDAR