BEGIN:VCALENDAR
VERSION:2.0
PRODID:Events Booking
BEGIN:VEVENT
UID:69ea4a542df32
SUMMARY:Mequon WI RIR Workshop
DESCRIPTION:You’re invited to attend our Rapid Incident Response Workshop
 . Get hands on experience with the Cisco XDR platform!
 Defend against la
 teral cybersecurity attacks such as Ransomware
 Effectively detect and ne
 utralize threats before they damage your assets
 Reduce Mean Time to Reme
 diation from weeks to minutes
  
 Foxtown Brewing
 6411 W Mequon Rd
 
 Mequon\, WI 53092
 Thursday\, June 26th @ 9:30-1pm CDT
 Workshop Registr
 ation Link:  Register Here
  
  
 Deep Dive into Cisco XDR
 Gain ha
 nds-on experience with advanced technology that empowers defenders. Discov
 er how Cisco XDR integrates data from your environment for enhanced visibi
 lity and threat intelligence.
 Live Threat Scenarios
 Immerse yourself i
 n real world threat scenarios crafted by industry experts. Feel the adrena
 line rush as you uncover hidden threats lurking in your network and learn 
 how to swiftly respond using Cisco XDR's advanced detection capabilities.
 
 Master Class in Threat Triage
 Enhance your threat hunting skills with 
 expert advice on scoping and prioritizing threats. Discover
 effective st
 rategies to quickly contain and remediate incidents\, reducing damage and 
 restoring
 normal operations.
 Networking and Collaboration
 Connect wi
 th cybersecurity professionals to share insights\, exchange best practices
 \, and build
 valuable connections that enhance your cybersecurity skills
  beyond the workshop.
 Exclusive Insights from Cisco Experts
 Gain insig
 hts from Cisco's cybersecurity experts on trends\, threats\, and best prac
 tices.
LOCATION:6411 W Mequon Rd\, Mequon\, WI 53092
DTSTART:20250626T080000Z
DTEND:20250626T150000Z
DTSTAMP:20250421T193456Z
ORGANIZER;CN=Cisco Security Workshops:MAILTO:no-reply@ciscosecurityworkshop
 .com
GEO:43.221123;-87.988533
X-APPLE-STRUCTURED-LOCATION;VALUE=URI;X-ADDRESS=6411 W Mequon Rd\, Mequon\,
  WI 53092;X-APPLE-RADIUS=72;X-TITLE=Foxtown Brewing:43.221123;-87.988533
END:VEVENT
END:VCALENDAR