BEGIN:VCALENDAR
VERSION:2.0
PRODID:Events Booking
BEGIN:VEVENT
UID:69ea7e815840f
SUMMARY:Meteor-Test
DESCRIPTION:Test-Workshop at lake constance
LOCATION:Baden-Württemberg\, Germany
DTSTART:20251208T090000Z
DTEND:20251208T130000Z
DTSTAMP:20251203T131300Z
ORGANIZER;CN=Cisco Security Workshops:MAILTO:no-reply@ciscosecurityworkshop
 .com
GEO:47.647769;9.34718
X-APPLE-STRUCTURED-LOCATION;VALUE=URI;X-ADDRESS=Baden-Württemberg\, German
 y;X-APPLE-RADIUS=72;X-TITLE=Lake Constance:47.647769;9.34718
END:VEVENT
END:VCALENDAR