BEGIN:VCALENDAR
VERSION:2.0
PRODID:Events Booking
BEGIN:VEVENT
UID:69ea85895881b
SUMMARY:UNC Pembroke RIR
DESCRIPTION:🎯 Mission Briefing: Kick off your adventure with a hands-on 
 lab designed to enhance your investigation and incident response expertise
 .
 🌐 Defend against sophisticated APTs with Cisco XDR: Learn how to em
 power your teams to go from endless investigation to remediating the highe
 st priority incidents with greater speed\, efficiency\, and confidence. We
  will explore how to:
 · Identify patterns and correlations in threat ac
 tivity with root cause and attack chain analysis
 · Leverage machine lea
 rning to prioritize incidents based on risk and impact
 · Elevate produc
 tivity with automation and guidance
 🍽️ Refuel and Recharge: All th
 at work sure works up an appetite! Join us for lunch to seize networking o
 pportunities within the cybersecurity community and cultivate valuable con
 nections
LOCATION:University Drive\, Pembroke\, 28372 North Carolina\, United States
DTSTART:20250915T140000Z
DTEND:20250915T210000Z
DTSTAMP:20250910T170052Z
ORGANIZER;CN=Cisco Security Workshops:MAILTO:no-reply@ciscosecurityworkshop
 .com
GEO:34.686829;-79.200871
X-APPLE-STRUCTURED-LOCATION;VALUE=URI;X-ADDRESS=University Drive\, Pembroke
 \, 28372 North Carolina\, United States;X-APPLE-RADIUS=72;X-TITLE=UNC Pemb
 roke:34.686829;-79.200871
END:VEVENT
END:VCALENDAR